BEGIN:VCALENDAR
VERSION:2.0
PRODID:-//Durban-Corbi&egrave;res - ECPv6.15.20//NONSGML v1.0//EN
CALSCALE:GREGORIAN
METHOD:PUBLISH
X-ORIGINAL-URL:https://durban-corbieres.fr
X-WR-CALDESC:Évènements pour Durban-Corbi&egrave;res
REFRESH-INTERVAL;VALUE=DURATION:PT1H
X-Robots-Tag:noindex
X-PUBLISHED-TTL:PT1H
BEGIN:VTIMEZONE
TZID:UTC
BEGIN:STANDARD
TZOFFSETFROM:+0000
TZOFFSETTO:+0000
TZNAME:UTC
DTSTART:20250101T000000
END:STANDARD
END:VTIMEZONE
BEGIN:VEVENT
DTSTART;TZID=UTC:20260209T080000
DTEND;TZID=UTC:20260209T080000
DTSTAMP:20260425T182004
CREATED:20260211T155336Z
LAST-MODIFIED:20260216T082037Z
UID:4240-1770624000-1770624000@durban-corbieres.fr
SUMMARY:VIGILANCE ROUGE "VENTS VIOLENTS"
DESCRIPTION:Météo-France place le département de l’Aude en vigilance rouge « vents violents » jeudi 12 février de 6h à 14h. La vigilance passera ensuite en orange le jeudi 12 février jusqu’à 18h.\n La cellule d’information du public est ouverte jusqu’à 19h ce jour. Elle rouvrira le jeudi 12 février à 6h.\nIl est demandé à l’ensemble de la population de faire preuve de la plus grande prudence et de respecter strictement les consignes suivantes :\n• S’abriter dans un bâtiment en dur\n• Éviter de circuler ou de stationner sous les arbres\n• Fermer portes\, fenêtres et volets\n• Limiter ou reporter tout déplacement\n• Mettre à l’abri ou fixer tout objet susceptible d’être emporté par le vent\n• Se tenir informé de l’évolution de la situation\nSuivez l’évolution de la situation sur https://vigilance.meteofrance.fr/fr/aude\nRestez informés sur les réseaux sociaux de la préfecture\nDépartement de l’Aude Gendarmerie de l’Aude Pompiers de l’Aude – SDIS 11
URL:https://durban-corbieres.fr/evenement/vigilance-rouge-vents-violents/
ATTACH;FMTTYPE=image/jpeg:https://durban-corbieres.fr/wp-content/uploads/2026/02/631175158_1360722759415975_2260025406430288349_n.jpg
END:VEVENT
BEGIN:VEVENT
DTSTART;TZID=UTC:20260210T080000
DTEND;TZID=UTC:20260210T170000
DTSTAMP:20260425T182004
CREATED:20260211T103911Z
LAST-MODIFIED:20260310T094227Z
UID:4233-1770710400-1770742800@durban-corbieres.fr
SUMMARY:Fermeture des massifs forestiers dans l'Aude
DESCRIPTION:En raison de prévisions météo annonçant des vents tempétueux (rafales pouvant dépasser 150 km/h)\, le préfet de l’Aude a pris les mesures suivantes :\nInterdiction d’accès : Tous les massifs forestiers du département sont fermés au public (routes\, pistes\, sentiers et parcelles) à partir du\njeudi 12 février 2026 à 0h00\,\net ce jusqu’à nouvel ordre.
URL:https://durban-corbieres.fr/evenement/fermeture-des-massifs-forestiers-dans-laude/
ATTACH;FMTTYPE=image/jpeg:https://durban-corbieres.fr/wp-content/uploads/2026/02/vent-violent.jpg
END:VEVENT
BEGIN:VEVENT
DTSTART;TZID=UTC:20260211T080000
DTEND;TZID=UTC:20260211T080000
DTSTAMP:20260425T182004
CREATED:20260211T190041Z
LAST-MODIFIED:20260220T084121Z
UID:4243-1770796800-1770796800@durban-corbieres.fr
SUMMARY:VIGILANCE ROUGE
DESCRIPTION:VIGILANCE ROUGE \n\n– – – – – – – \n\nSUITE AU MESSAGE FR ALERTE EXTREMEMENT GRAVE \nVENTS VIOLENTS \nVIGILANCE ROUGE \nLA préfecture rappelle à la population d’être extrêmement vigilant. \nAbritez vous dans un bâtiment dur \nEvitez de rester sous un arbre \nFermez portes\, fenêtres et volets. \nLimiter ou reporter vos déplacements \nAccrochez tout objet qui pourrait être emporté par le vent \nNe pas laisser les véhicules sous les arbres (Chutes de Branches) \nRespectez les consignes des autorités et restez en lieu sur jusqu’à à la fin de l’alerte
URL:https://durban-corbieres.fr/evenement/vigilance-rouge/
ATTACH;FMTTYPE=image/jpeg:https://durban-corbieres.fr/wp-content/uploads/2026/02/631175158_1360722759415975_2260025406430288349_n.jpg
END:VEVENT
BEGIN:VEVENT
DTSTART;TZID=UTC:20260211T080000
DTEND;TZID=UTC:20260211T080000
DTSTAMP:20260425T182004
CREATED:20260213T145343Z
LAST-MODIFIED:20260220T105447Z
UID:4253-1770796800-1770796800@durban-corbieres.fr
SUMMARY:ARRETE PREFECTORAL N°SIDPC-2026-61 PORTANT FERMETURE DE L'ENSEMBLE DES MASSIFS FORESTIERS DU DEPARTEMENT DE L'AUDE
DESCRIPTION:Par arrêté préfectoral\,\nl’ensemble des massifs forestiers du département de l’Aude\nest temporairement fermé au public\,\nà compter de ce jour et jusqu’à nouvel ordre.
URL:https://durban-corbieres.fr/evenement/arrete-prefectoral-nsidpc-2026-61-portant-fermeture-de-lensemble-des-massifs-forestiers-du-departement-de-laude/
ATTACH;FMTTYPE=image/jpeg:https://durban-corbieres.fr/wp-content/uploads/2026/02/ARRETE-PREFECTORAL.jpg
END:VEVENT
BEGIN:VEVENT
DTSTART;TZID=UTC:20260211T080000
DTEND;TZID=UTC:20260211T170000
DTSTAMP:20260425T182004
CREATED:20260212T143737Z
LAST-MODIFIED:20260220T084256Z
UID:4245-1770796800-1770829200@durban-corbieres.fr
SUMMARY:POINT SITUATION
DESCRIPTION:[REOUVERTURE DES ÉTABLISSEMENTS SCOLAIRES ET ACCUEIL DE MINEURS]\n\n\n#TempêteNils | POINT DE SITUATION à 14H15\n\n\n Vendredi 13 février 2026\, les établissements d’enseignement publics et privés de tout le département\, incluant les crèches\, écoles maternelles et primaires\, collèges\, lycées ainsi que les établissements d’enseignement supérieur et agricoles\, seront réouverts.\n\n\n La vigilance rouge vent violent est levée depuis 14h pour un passage en vigilance orange crues et jaune pluie-inondation. Suivi météo : vigilance.meteofrance.fr/fr/aude\n\n\n La circulation demeure difficile sur les réseaux autoroutiers et secondaires avec 48 routes barrées sur le département. En temps réel : inforoute11.fr\n\n\n La Cellule d’information du public (CIP) est ouverte au 09 70 80 90 40.\n\n\n Limitez au maximum vos déplacements.
URL:https://durban-corbieres.fr/evenement/point-situation/
ATTACH;FMTTYPE=image/jpeg:https://durban-corbieres.fr/wp-content/uploads/2026/02/vent-violent.jpg
END:VEVENT
BEGIN:VEVENT
DTSTART;TZID=UTC:20260214T080000
DTEND;TZID=UTC:20260214T080000
DTSTAMP:20260425T182004
CREATED:20260214T160445Z
LAST-MODIFIED:20260220T084048Z
UID:4259-1771056000-1771056000@durban-corbieres.fr
SUMMARY:Alerte Météo du 14 février 2026
DESCRIPTION:INFO PREFECTURE \n\n– – – – – – – \n\nAlerte du 14/02/2026 à 16:56 \nMétéo-France place le département de l’Aude en vigilance orange « vent violent » \net en \nvigilance jaune « pluie-inondations » et « crues ». \nVigilance orange vent violent \nÀ compter de 16h ce samedi 14 février\, des rafales pouvant atteindre 120 km/h localement sont attendues dans l’est du département\, en particulier sur le littoral. \nVigilance jaune pluie-inondations jusqu’à minima 16h ce jour \nVigilance jaune crues concernant les cours d’eau suivants : Basses plaines de l’Aude\, Haute-Vallée de l’Aude\, Vallée centrale de l’Aude et Fresquel. \nÀ partir de 16h\, \nÉvitez tout déplacement non indispensable. \nLimitez vos activités extérieures \nSécurisez les objets sensibles au vent. \n⛔️ Interdiction temporaire des manifestations sportives\, culturelles\, fêtes\, spectacles\, activités de loisirs et animations locales\, se déroulant en extérieur et rassemblant du public dans l’arrondissement de Narbonne à partir de 16h ce jour \n⛔️ Ne vous engagez jamais\, à pied ou en voiture\, sur une voie submergée. \n⛔️ Ne touchez jamais à des lignes électriques au sol. \nPour suivre l’évolution de la situation : \nhttps://vigi.meteofrance.fr/fr/aude \nhttps://www.vigicrues.gouv.fr/ \nPompiers de l’Aude – SDIS 11 Gendarmerie de l’Aude Département de l’Aude
URL:https://durban-corbieres.fr/evenement/alerte-meteo-du-14-fevrier-2026/
ATTACH;FMTTYPE=image/jpeg:https://durban-corbieres.fr/wp-content/uploads/2026/02/628535001_1363375822484002_5389625856958301846_n.jpg
END:VEVENT
BEGIN:VEVENT
DTSTART;TZID=UTC:20260217T080000
DTEND;TZID=UTC:20260217T080000
DTSTAMP:20260425T182004
CREATED:20260218T101024Z
LAST-MODIFIED:20260318T093015Z
UID:4277-1771315200-1771315200@durban-corbieres.fr
SUMMARY:Avis de publicité – Appel à manifestation d’intérêt Occupation privative du domaine public communal en vue d’une exploitation économique Gestion d'une aire mixte camping et véhicules de loisirs au sein du camping municipal
DESCRIPTION:La commune de DURBAN CORBIERES\, propriétaire des parcelles situées avenue du Bord de Berre 11360 DURBAN CORBIERES au sein du camping municipal et faisant partie de son domaine public a été contactée par un opérateur économique qui souhaite les occuper privativement. \nLa proposition consiste dans la gestion d’une aire mixte camping et véhicule de loisirs 365 jrs/an dans le cadre d’un contrat de 10 ans en contrepartie du versement d’une redevance (avec part fixe et part variable) et de l’acquisition du matériel et des équipements par la commune. \nEn application des dispositions de l’article L. 2122-1-4 du Code Général de la Propriété des Personnes Publiques (CGPPP)\, la commune porte à la connaissance de tous\, par le présent avis\, cette manifestation d’intérêt spontané.   \nTout autre opérateur qu’une telle exploitation économique du domaine public communal serait susceptible d’intéresser peut se faire connaître par simple courrier adressé à la mairie de DURBAN CORBIERES\, 12 Rue de la Mairie 11360 DURBAN CORBIERES secretariat.general@mairiededurban.fr . \nLa date limite de réception de ce courrier est fixée au 11 mars 2026 à 16h00. \nEn l’absence de toute autre manifestation d’intérêt concurrente à la date et selon les modalités ci-dessus\, la commune pourra délivrer le titre à l’amiable à l’opérateur qui lui a présenté le projet\, sur le fondement de l’article\, L2122-1-3 3° du CGPPP. \nSi un ou plusieurs autres opérateurs ont fait connaitre leur intérêt pour cette exploitation économique à la date et selon les modalités ci-dessus\, la commune ne pourra délivrer le titre d’occupation du domaine public qu’après mise en œuvre d’une procédure de sélection\, régie par l’article L 2122-1-1 du CGPPP dans le cadre de laquelle les opérateurs seront appelés à présenter leur projet (aspects financiers et techniques). \nPublié le 18 février 2026.
URL:https://durban-corbieres.fr/evenement/avis-de-publicite-appel-a-manifestation-dinteret-occupation-privative-du-domaine-public-communal-en-vue-dune-exploitation-economique-gestion-dune-aire-mixte-camping-et-ve/
ATTACH;FMTTYPE=image/jpeg:https://durban-corbieres.fr/wp-content/uploads/2026/02/8d4dbe361b94c754f575eb0476944643.jpg
END:VEVENT
BEGIN:VEVENT
DTSTART;TZID=UTC:20260217T090000
DTEND;TZID=UTC:20260217T163000
DTSTAMP:20260425T182004
CREATED:20260213T150915Z
LAST-MODIFIED:20260213T150915Z
UID:4256-1771318800-1771345800@durban-corbieres.fr
SUMMARY:GROUPAMA CAR
DESCRIPTION:Le Groupama car sera présent\nsur la commune\nMercredi 17 février 2026\nde 9h à 16h30\nSur la Place du Marché\nAIDE DECLARATION SINISTRE
URL:https://durban-corbieres.fr/evenement/groupama-car/
LOCATION:Place du marché
CATEGORIES:Evénement visible dans l'Agenda et dans la page d'Accueil
ATTACH;FMTTYPE=image/jpeg:https://durban-corbieres.fr/wp-content/uploads/2026/02/AFFICHE-DURBAN-CORBIERES_page-0001.jpg
END:VEVENT
BEGIN:VEVENT
DTSTART;TZID=UTC:20260220T170000
DTEND;TZID=UTC:20260220T183000
DTSTAMP:20260425T182004
CREATED:20260213T104805Z
LAST-MODIFIED:20260213T104805Z
UID:4247-1771606800-1771612200@durban-corbieres.fr
SUMMARY:VENTE DE CRÊPES
DESCRIPTION:L’école primaire de Durban organise une vente de crêpes au profit de la coopérative scolaire\nVendredi 20 Février 2026 dès 17h00 dans la cour de l’école primaire\nLa crêpe au sucre : 1€\nLa crêpe pâte à tartiner : 2€
URL:https://durban-corbieres.fr/evenement/vente-de-crepes/
LOCATION:Cour école primaire
CATEGORIES:Evénement visible dans l'Agenda et dans la page d'Accueil
ATTACH;FMTTYPE=image/jpeg:https://durban-corbieres.fr/wp-content/uploads/2026/02/VENTE-DE-CREPES.jpg
END:VEVENT
BEGIN:VEVENT
DTSTART;TZID=UTC:20260222T080000
DTEND;TZID=UTC:20260222T170000
DTSTAMP:20260425T182004
CREATED:20260223T095828Z
LAST-MODIFIED:20260223T095828Z
UID:4295-1771747200-1771779600@durban-corbieres.fr
SUMMARY:📢 Du nouveau à la Maison de Santé de Durban-Corbières !
DESCRIPTION:La maison de santé a le plaisir d’annoncer l’arrivée de deux nouveaux médecins généralistes\n🤝 Bienvenue au : \nDocteur Vandendriessche (dès le lundi 23 février)\n👩‍⚕️ Elle porte un intérêt particulier à la pédiatrie et au bien-être psychologique.\n📅 Présente les lundi\, mardi\, mercredi et jeudi. \n🤝 Bienvenue au : \nDocteur Kirkeby (dès le 6 mars)\n👨‍⚕️ elle s’intéresse spécifiquement à la dermatologie et aux soins palliatifs.\n📅 Présente les lundi\, mardi\, jeudi et vendredi. \n📅 Modalités de rendez-vous :\nLes consultations se font uniquement sur rendez-vous :\npar\n📞 Téléphone : 04.68.45.51.13\n(le matin uniquement\, sauf urgence).\nou\n💻 En ligne : via zena.eu (prochainement actif). \n 
URL:https://durban-corbieres.fr/evenement/%f0%9f%93%a2-du-nouveau-a-la-maison-de-sante-de-durban-corbieres/
CATEGORIES:Actualité sur page d'Accueil
ATTACH;FMTTYPE=image/webp:https://durban-corbieres.fr/wp-content/uploads/2026/02/maison-de-sante-durban-corbieres.webp
END:VEVENT
BEGIN:VEVENT
DTSTART;TZID=UTC:20260222T080000
DTEND;TZID=UTC:20260222T170000
DTSTAMP:20260425T182004
CREATED:20260223T142914Z
LAST-MODIFIED:20260410T123313Z
UID:4298-1771747200-1771779600@durban-corbieres.fr
SUMMARY:Information éclairage public
DESCRIPTION:À partir du 23 février\, de nouvelles dispositions concernant l’éclairage nocturne entrent en vigueur.\nL’éclairage public ne sera désormais plus totalement éteint durant la nuit.\nEn revanche un abaissement de l’intensité lumineuse de 50 % sera appliqué chaque nuit de 23h00 à 05h00.\nCette mesure permet de maintenir une visibilité constante tout en limitant notre empreinte énergétique.
URL:https://durban-corbieres.fr/evenement/information-eclairage-public/
ATTACH;FMTTYPE=image/jpeg:https://durban-corbieres.fr/wp-content/uploads/2026/02/EP.jpg
END:VEVENT
BEGIN:VEVENT
DTSTART;TZID=UTC:20260222T080000
DTEND;TZID=UTC:20260222T170000
DTSTAMP:20260425T182004
CREATED:20260223T155238Z
LAST-MODIFIED:20260223T155238Z
UID:4302-1771747200-1771779600@durban-corbieres.fr
SUMMARY:Les Obligations Légales de Débroussaillement
DESCRIPTION:Suite à l’arrêté préfectoral n°DDTM-SAFEB-UFCB-2025-044\, les règles concernant les Obligations Légales de Débroussaillement (OLD)\nsont rappelées et précisées.\n\n\nIl est crucial d’agir dès maintenant pour limiter les risques de propagation des feux.
URL:https://durban-corbieres.fr/evenement/les-obligations-legales-de-debroussaillement/
CATEGORIES:Actualité sur page d'Accueil
ATTACH;FMTTYPE=image/jpeg:https://durban-corbieres.fr/wp-content/uploads/2026/02/OLD.jpg
END:VEVENT
BEGIN:VEVENT
DTSTART;TZID=UTC:20260223T080000
DTEND;TZID=UTC:20260223T170000
DTSTAMP:20260425T182004
CREATED:20260225T144540Z
LAST-MODIFIED:20260225T144628Z
UID:4307-1771833600-1771866000@durban-corbieres.fr
SUMMARY:ARRETE 2026-28 PORTANT REGLEMENTATION DE LA CIRCULATION DES PIETONS SUR LA PASSERELLE
DESCRIPTION:La municipalité informe qu’un nouvel arrêté (n° 2026-28)\na été pris concernant l’utilisation de la passerelle piétonne\n(rue de la Passerelle) afin de garantir la sécurité de tous.\n\n\nSuite aux conclusions d’un rapport d’étude technique\, l’accès à la passerelle est désormais interdit jusqu’à nouvel ordre pour:\nToutes les manifestations festives ou revendicatives.\net\nTout mouvement de foule important par son nombre.\n\n\nLa circulation piétonne habituelle et individuelle n’est pas suspendue\,\nmais elle doit se faire dans le respect de ces nouvelles consignes de sécurité pour éviter toute surcharge de l’ouvrage
URL:https://durban-corbieres.fr/evenement/arrete-2026-28-portant-reglementation-de-la-circulation-des-pietons-sur-la-passerelle/
CATEGORIES:Actualité sur page d'Accueil
ATTACH;FMTTYPE=image/webp:https://durban-corbieres.fr/wp-content/uploads/2026/02/Diapositive5-7.webp
END:VEVENT
END:VCALENDAR