BEGIN:VCALENDAR
VERSION:2.0
PRODID:-//Durban-Corbi&egrave;res - ECPv6.15.20//NONSGML v1.0//EN
CALSCALE:GREGORIAN
METHOD:PUBLISH
X-WR-CALNAME:Durban-Corbi&egrave;res
X-ORIGINAL-URL:https://durban-corbieres.fr
X-WR-CALDESC:Évènements pour Durban-Corbi&egrave;res
REFRESH-INTERVAL;VALUE=DURATION:PT1H
X-Robots-Tag:noindex
X-PUBLISHED-TTL:PT1H
BEGIN:VTIMEZONE
TZID:UTC
BEGIN:STANDARD
TZOFFSETFROM:+0000
TZOFFSETTO:+0000
TZNAME:UTC
DTSTART:20250101T000000
END:STANDARD
END:VTIMEZONE
BEGIN:VEVENT
DTSTART;TZID=UTC:20260103T080000
DTEND;TZID=UTC:20260103T080000
DTSTAMP:20260425T194025
CREATED:20260103T140913Z
LAST-MODIFIED:20260109T155624Z
UID:4134-1767427200-1767427200@durban-corbieres.fr
SUMMARY:INFO PREFECTURE
DESCRIPTION:#VigilanceJaune\n#activationplangrandfroid\n\n\nMétéo-France place le département de l’Aude en vigilance jaune pour le risque :\n Grand Froid\, dimanche 04 janvier 2026 à partir de 0h00.\n\n\nDes températures basses sont attendues\, avec un ressenti pouvant atteindre – 8°C localement.\n\n\nFace à cette situation\, le plan grand froid est activé.\n\n\n Soyez vigilants\, protégez-vous du froid et prenez des nouvelles de vos proches. En cas de difficultés\, ou si vous rencontrez une personne en difficulté\, composez le 115.
URL:https://durban-corbieres.fr/evenement/info-prefecture-2/
ATTACH;FMTTYPE=image/jpeg:https://durban-corbieres.fr/wp-content/uploads/2026/01/610818385_1327732986048286_469510498242213310_n.jpg
END:VEVENT
BEGIN:VEVENT
DTSTART;TZID=UTC:20260105T183000
DTEND;TZID=UTC:20260105T233000
DTSTAMP:20260425T194025
CREATED:20260114T153800Z
LAST-MODIFIED:20260128T093024Z
UID:4160-1767637800-1767655800@durban-corbieres.fr
SUMMARY:Cérémonie des Vœux
DESCRIPTION:Le Maire et son Conseil Municipal invitent la population\nà la traditionnelle cérémonie\nde présentation des vœux\nqui aura lieu\nvendredi 23 janvier 2026 à 18h30\nau Foyer Municipal
URL:https://durban-corbieres.fr/evenement/ceremonie-des-voeux/
ATTACH;FMTTYPE=image/jpeg:https://durban-corbieres.fr/wp-content/uploads/2026/01/Voeux-2026.jpg
END:VEVENT
BEGIN:VEVENT
DTSTART;TZID=UTC:20260109T080000
DTEND;TZID=UTC:20260109T080000
DTSTAMP:20260425T194025
CREATED:20260109T155734Z
LAST-MODIFIED:20260112T154330Z
UID:4145-1767945600-1767945600@durban-corbieres.fr
SUMMARY:VIGILANCE METEO
DESCRIPTION:INFO Préfet de l’Aude\n\n\n#VigilanceJaune – #Neige #Verglas |\nMétéo-France a placé le département de l’Aude en vigilance jaune neige-verglas à compter d’aujourd’hui\, 9 janvier à 18h00\, jusqu’à demain 15h.\n\n Limite pluie-neige vers 600 m en soirée sur tous les reliefs du département\n\n Cette nuit\, jusqu’à 15 cm sur le pays de Sault\, 12 à 15 cm en Montagne Noire\n\n Samedi\, il devrait tomber 15 cm de plus sur la Montagne Noire et 15 cm sur le pays de Sault.\n\n Congères possibles dues au vent !\n\n Prudence sur les secteurs concernés et adaptez vos déplacements
URL:https://durban-corbieres.fr/evenement/vigilance-meteo/
ATTACH;FMTTYPE=image/jpeg:https://durban-corbieres.fr/wp-content/uploads/2025/12/601838267_1320396420115276_8561839235355210647_n.jpg
END:VEVENT
BEGIN:VEVENT
DTSTART;TZID=UTC:20260112T080000
DTEND;TZID=UTC:20260112T080000
DTSTAMP:20260425T194025
CREATED:20260112T155542Z
LAST-MODIFIED:20260220T105555Z
UID:4156-1768204800-1768204800@durban-corbieres.fr
SUMMARY:PRELEVEMENT MENSUEL FACTURES D'EAU
DESCRIPTION:💧💧💧 \nLes administrés qui souhaitent la mise en place du paiement mensuel des factures d’eau potable et d’assainissement à compter du 01 janvier 2026\, \nsont invités à prendre RDV en Mairie au 04 68 45 90 12 avant le 27 janvier 2026 afin de remplir une demande d’adhésion à laquelle vous devrez joindre un RIB. \nPour les personnes qui ont opté pour le paiement mensuel en 2025 celui ci sera reconduit automatiquement sauf si demande contraire.
URL:https://durban-corbieres.fr/evenement/prelevement-mensuel-factures-deau/
ATTACH;FMTTYPE=image/png:https://durban-corbieres.fr/wp-content/uploads/2026/01/784_227_Mensualisation-des-factures-d-eau.png
END:VEVENT
BEGIN:VEVENT
DTSTART;TZID=UTC:20260112T080000
DTEND;TZID=UTC:20260112T170000
DTSTAMP:20260425T194025
CREATED:20260116T154551Z
LAST-MODIFIED:20260121T131057Z
UID:4170-1768204800-1768237200@durban-corbieres.fr
SUMMARY:ALERTE METEO
DESCRIPTION:𝗜𝗡𝗙𝗢 𝗩𝗜𝗚𝗜𝗟𝗔𝗡𝗖𝗘 – 𝗜𝗻𝘁𝗲𝗺𝗽𝗲́𝗿𝗶𝗲𝘀\n Message de la Préfecture de l’Aude\nLe département de l’Aude va connaître un épisode de pluies intenses à partir de demain\, samedi 17 janvier\, et jusqu’au lundi 19 janvier 2026.\n Des précipitations importantes sont attendues et pourraient entraîner des débordements de cours d’eau sur l’ensemble du département.\nNous vous invitons à faire preuve de prudence et à anticiper cette situation.
URL:https://durban-corbieres.fr/evenement/alerte-meteo/
ATTACH;FMTTYPE=image/jpeg:https://durban-corbieres.fr/wp-content/uploads/2026/01/Vigilance-JAUNE-SMS-pluie-inondations-du-20-10-a-15h-au-21-10-a-3h_large.jpg
END:VEVENT
BEGIN:VEVENT
DTSTART;TZID=UTC:20260112T080000
DTEND;TZID=UTC:20260112T170000
DTSTAMP:20260425T194025
CREATED:20260118T113632Z
LAST-MODIFIED:20260121T131439Z
UID:4173-1768204800-1768237200@durban-corbieres.fr
SUMMARY:ALERTE METEO
DESCRIPTION:Aude – vigilance orange pluies inondations et conditions météorologiques dégradées – Consignes applicables à l’ensemble du département de l’Aude\n\n\nÀ cette heure\, plusieurs routes départementales ont été coupées. Suivez l’évolution en temps réel sur le site : www.inforoute11.fr\n\n\nEn prévision et par précaution\, le préfet a décidé de prendre les mesures suivantes pour lundi 19 janvier :\n\n\nActivation des plans communaux de sauvegarde de l’ensemble des communes de l’arrondissement de Narbonne\n\n\n Fermeture des écoles de la maternelle au lycée\, des crèches et des accueils de loisirs dans tout le département.\n\n\n Interdiction des manifestations sportives / culturelles dans tout le département\n\n\n Suspension des transports scolaires dans tout le département.\n\n\n Il est recommandé à la population de :\n\n\n limiter les déplacements non indispensables ;\n\n\n ne pas s’engager sur des routes inondées ;\n\n\n sécuriser les biens exposés au vent et à la pluie ;\n\n\n rester informé de l’évolution de la situation via les canaux officiels (médias\, sites institutionnels\, réseaux sociaux des autorités).
URL:https://durban-corbieres.fr/evenement/alerte-meteo-2/
ATTACH;FMTTYPE=image/jpeg:https://durban-corbieres.fr/wp-content/uploads/2026/01/Alerte-18-01-2026.jpg
END:VEVENT
BEGIN:VEVENT
DTSTART;TZID=UTC:20260115T080000
DTEND;TZID=UTC:20260115T170000
DTSTAMP:20260425T194025
CREATED:20260116T110042Z
LAST-MODIFIED:20260417T074930Z
UID:4167-1768464000-1768496400@durban-corbieres.fr
SUMMARY:RECENSEMENT CITOYEN
DESCRIPTION:Vous êtes Français et vous allez bientôt avoir 16 ans ?\nFaire votre recensement citoyen à l’âge de 16 ans est obligatoire\,\nque vous viviez en France ou à l’étranger :
URL:https://durban-corbieres.fr/evenement/recensement-citoyen/
CATEGORIES:Actualité sur page d'Accueil
ATTACH;FMTTYPE=image/png:https://durban-corbieres.fr/wp-content/uploads/2026/01/ChatGPT-Image-17-avr.-2026-09_06_09.png
END:VEVENT
BEGIN:VEVENT
DTSTART;TZID=UTC:20260119T080000
DTEND;TZID=UTC:20260119T080000
DTSTAMP:20260425T194025
CREATED:20260119T124417Z
LAST-MODIFIED:20260121T131049Z
UID:4178-1768809600-1768809600@durban-corbieres.fr
SUMMARY:INFO MAIRIE VIGILANCE
DESCRIPTION:Les pluies stationnaires se renforcent actuellement sur la commune\nLa Berre et le Barrou évoluent rapidement. Par précaution\,\nVeuillez sortir les véhicules des parkings longeant les cours d’eau\,\nNe vous engagez pas sur des routes inondées\nN’empruntez pas les passages submersibles\nSoyez prudents face aux ruissellements important\nEvitez les déplacements inutiles\nTenez-vous informés sur les sites officiels \nmeteofrance.fr\nvigicrues.gouv.fr\ninforoute11.fr \nSoyez très prudent.
URL:https://durban-corbieres.fr/evenement/info-mairie-vigilance/
ATTACH;FMTTYPE=image/jpeg:https://durban-corbieres.fr/wp-content/uploads/2026/01/antisanti_le_tavignanu_en_vigilance_orange_crues_full_actu.jpg
END:VEVENT
BEGIN:VEVENT
DTSTART;TZID=UTC:20260119T080000
DTEND;TZID=UTC:20260119T080000
DTSTAMP:20260425T194025
CREATED:20260119T161956Z
LAST-MODIFIED:20260121T131040Z
UID:4182-1768809600-1768809600@durban-corbieres.fr
SUMMARY:Vigilance Orange - Accueil Mairie Durban Corbières
DESCRIPTION:Vigilance Orange – Accueil Mairie Durban Corbières\n\n\n\n En raison de la vigilance Orange toujours en cours\,\n\n\n l’accueil de la Mairie reste ouvert jusqu’à 19 heures.\n\n\n Après 19 heures\, en cas d’urgence\, contactez le 07 56 41 31 29
URL:https://durban-corbieres.fr/evenement/vigilance-orange-accueil-mairie-durban-corbieres/
ATTACH;FMTTYPE=image/jpeg:https://durban-corbieres.fr/wp-content/uploads/2026/01/antisanti_le_tavignanu_en_vigilance_orange_crues_full_actu.jpg
END:VEVENT
BEGIN:VEVENT
DTSTART;TZID=UTC:20260124T080000
DTEND;TZID=UTC:20260124T080000
DTSTAMP:20260425T194025
CREATED:20260124T091608Z
LAST-MODIFIED:20260128T092951Z
UID:4197-1769241600-1769241600@durban-corbieres.fr
SUMMARY:vigilance jaune crue
DESCRIPTION:#vigilancejaunecrue \nPassage en vigilance Jaune Crue sur le secteur de LA BERRE et de la haute vallée de l’Aude. \nAprès une semaine déjà très pluvieuse\, les sols sont saturés et des débordements pourraient se produire. \nLe tronçon de la vallée centrale de l’Aude est toujours en vigilance jaune. \nne baissez pas votre vigilance\, \nSoyez vigilants lors de vos activités en extérieur \nSuivez l évolution de la situation sur vigicrues.gouv.fr \nil est recommandé de ne pas s’approcher des cours d’eau et de ne pas s’engager sur les axes inondés
URL:https://durban-corbieres.fr/evenement/vigilance-jaune-crue/
ATTACH;FMTTYPE=image/jpeg:https://durban-corbieres.fr/wp-content/uploads/2026/01/621446343_1344163881071863_1085473462602927391_n.jpg
END:VEVENT
END:VCALENDAR