BEGIN:VCALENDAR
VERSION:2.0
PRODID:-//Durban-Corbi&egrave;res - ECPv6.15.20//NONSGML v1.0//EN
CALSCALE:GREGORIAN
METHOD:PUBLISH
X-WR-CALNAME:Durban-Corbi&egrave;res
X-ORIGINAL-URL:https://durban-corbieres.fr
X-WR-CALDESC:Évènements pour Durban-Corbi&egrave;res
REFRESH-INTERVAL;VALUE=DURATION:PT1H
X-Robots-Tag:noindex
X-PUBLISHED-TTL:PT1H
BEGIN:VTIMEZONE
TZID:UTC
BEGIN:STANDARD
TZOFFSETFROM:+0000
TZOFFSETTO:+0000
TZNAME:UTC
DTSTART:20240101T000000
END:STANDARD
END:VTIMEZONE
BEGIN:VEVENT
DTSTART;TZID=UTC:20250508T113000
DTEND;TZID=UTC:20250508T113000
DTSTAMP:20260421T085835
CREATED:20250506T140113Z
LAST-MODIFIED:20250515T090235Z
UID:3464-1746703800-1746703800@durban-corbieres.fr
SUMMARY:Cérémonie du 08 mai
DESCRIPTION:Le Maire de Durban et son Conseil Municipal invitent la population\, les associations et les corps constitués à la cérémonie du 08 mai\,\njeudi à 11 h30 place du Monument aux Morts.\nUn apéritif sera servi à l’issue de cette manifestation.
URL:https://durban-corbieres.fr/evenement/ceremonie-du-08-mai/
CATEGORIES:Evénement visible que dans l'Agenda
END:VEVENT
END:VCALENDAR