BEGIN:VCALENDAR
VERSION:2.0
PRODID:-//Durban-Corbi&egrave;res - ECPv6.15.20//NONSGML v1.0//EN
CALSCALE:GREGORIAN
METHOD:PUBLISH
X-ORIGINAL-URL:https://durban-corbieres.fr
X-WR-CALDESC:Évènements pour Durban-Corbi&egrave;res
REFRESH-INTERVAL;VALUE=DURATION:PT1H
X-Robots-Tag:noindex
X-PUBLISHED-TTL:PT1H
BEGIN:VTIMEZONE
TZID:UTC
BEGIN:STANDARD
TZOFFSETFROM:+0000
TZOFFSETTO:+0000
TZNAME:UTC
DTSTART:20240101T000000
END:STANDARD
END:VTIMEZONE
BEGIN:VEVENT
DTSTART;VALUE=DATE:20250501
DTEND;VALUE=DATE:20250502
DTSTAMP:20260421T090205
CREATED:20250418T140255Z
LAST-MODIFIED:20250418T140255Z
UID:3416-1746057600-1746143999@durban-corbieres.fr
SUMMARY:VIDE GRENIER & CONCOURS DE PETANQUE
DESCRIPTION:Vide grenier et Concours de pétanque Organisés par\nDURBAN MON VILLAGE – FAIRE ET PARTAGE – CORBIERES SOLIDARITES\nJeudi 1 er mai 2025\nsur la Place du Marché\nde DURBAN-CORBIERES
URL:https://durban-corbieres.fr/evenement/vide-grenier-concours-de-petanque/
LOCATION:Place du marché
CATEGORIES:Evénement visible que dans l'Agenda
ATTACH;FMTTYPE=image/png:https://durban-corbieres.fr/wp-content/uploads/2025/04/vide-grenier.png
END:VEVENT
END:VCALENDAR