BEGIN:VCALENDAR
VERSION:2.0
PRODID:-//Durban-Corbi&egrave;res - ECPv6.15.20//NONSGML v1.0//EN
CALSCALE:GREGORIAN
METHOD:PUBLISH
X-ORIGINAL-URL:https://durban-corbieres.fr
X-WR-CALDESC:Évènements pour Durban-Corbi&egrave;res
REFRESH-INTERVAL;VALUE=DURATION:PT1H
X-Robots-Tag:noindex
X-PUBLISHED-TTL:PT1H
BEGIN:VTIMEZONE
TZID:UTC
BEGIN:STANDARD
TZOFFSETFROM:+0000
TZOFFSETTO:+0000
TZNAME:UTC
DTSTART:20240101T000000
END:STANDARD
END:VTIMEZONE
BEGIN:VEVENT
DTSTART;TZID=UTC:20250426T190000
DTEND;TZID=UTC:20250426T190000
DTSTAMP:20260423T101928
CREATED:20250415T083300Z
LAST-MODIFIED:20250415T083548Z
UID:3392-1745694000-1745694000@durban-corbieres.fr
SUMMARY:Info Café Associatif "An Nou Ay"
DESCRIPTION:Théâtre à Durban\, une pièce de Pierre Reimbold :\n« LE SUSPECT »\nSamedi 26 avril à 19h\nEntrée libre
URL:https://durban-corbieres.fr/evenement/info-cafe-associatif-an-nou-ay/
LOCATION:Café associatif An Nou Ay\, DURBAN-CORBIERES
CATEGORIES:Evénement visible que dans l'Agenda
ATTACH;FMTTYPE=image/jpeg:https://durban-corbieres.fr/wp-content/uploads/2025/04/Le-Suspect-Theatre-260425_page-0001.jpg
END:VEVENT
END:VCALENDAR