BEGIN:VCALENDAR
VERSION:2.0
PRODID:-//Durban-Corbi&egrave;res - ECPv6.15.20//NONSGML v1.0//EN
CALSCALE:GREGORIAN
METHOD:PUBLISH
X-ORIGINAL-URL:https://durban-corbieres.fr
X-WR-CALDESC:Évènements pour Durban-Corbi&egrave;res
REFRESH-INTERVAL;VALUE=DURATION:PT1H
X-Robots-Tag:noindex
X-PUBLISHED-TTL:PT1H
BEGIN:VTIMEZONE
TZID:UTC
BEGIN:STANDARD
TZOFFSETFROM:+0000
TZOFFSETTO:+0000
TZNAME:UTC
DTSTART:20240101T000000
END:STANDARD
END:VTIMEZONE
BEGIN:VEVENT
DTSTART;TZID=UTC:20250413T090000
DTEND;TZID=UTC:20250413T130000
DTSTAMP:20260421T101512
CREATED:20250408T131400Z
LAST-MODIFIED:20250408T131400Z
UID:3346-1744534800-1744549200@durban-corbieres.fr
SUMMARY:EMBELLISSEMENT DU VILLAGE
DESCRIPTION:DURBAN MON VILLAGE – FAIRE ET PARTAGE – CORBIERES SOLIDARITES\nVous donnent rendez-vous dimanche 13 avril à 9 h au garage de la Noria\,\npour poncer et peindre
URL:https://durban-corbieres.fr/evenement/embellissement-du-village-2/
LOCATION:Z.A. La Noria
CATEGORIES:Evénement visible que dans l'Agenda
END:VEVENT
END:VCALENDAR