BEGIN:VCALENDAR
VERSION:2.0
PRODID:-//Durban-Corbi&egrave;res - ECPv6.15.20//NONSGML v1.0//EN
CALSCALE:GREGORIAN
METHOD:PUBLISH
X-WR-CALNAME:Durban-Corbi&egrave;res
X-ORIGINAL-URL:https://durban-corbieres.fr
X-WR-CALDESC:Évènements pour Durban-Corbi&egrave;res
REFRESH-INTERVAL;VALUE=DURATION:PT1H
X-Robots-Tag:noindex
X-PUBLISHED-TTL:PT1H
BEGIN:VTIMEZONE
TZID:UTC
BEGIN:STANDARD
TZOFFSETFROM:+0000
TZOFFSETTO:+0000
TZNAME:UTC
DTSTART:20240101T000000
END:STANDARD
END:VTIMEZONE
BEGIN:VEVENT
DTSTART;TZID=UTC:20250411T120000
DTEND;TZID=UTC:20250411T170000
DTSTAMP:20260423T101553
CREATED:20250321T073251Z
LAST-MODIFIED:20250321T073251Z
UID:3257-1744372800-1744390800@durban-corbieres.fr
SUMMARY:Repas de La Grappe D'or
DESCRIPTION:La Grappe d’Or vous propose son repas de printemps sur le thème « les tropiques » le vendredi 11 avril à 12 h au foyer de Cascastel
URL:https://durban-corbieres.fr/evenement/repas-de-la-grappe-dor/
LOCATION:Foyer de Cascastel
CATEGORIES:Evénement visible que dans l'Agenda
ATTACH;FMTTYPE=image/jpeg:https://durban-corbieres.fr/wp-content/uploads/2025/03/repas-grappe-dor.jpg
END:VEVENT
END:VCALENDAR