BEGIN:VCALENDAR
VERSION:2.0
PRODID:-//Durban-Corbi&egrave;res - ECPv6.15.20//NONSGML v1.0//EN
CALSCALE:GREGORIAN
METHOD:PUBLISH
X-ORIGINAL-URL:https://durban-corbieres.fr
X-WR-CALDESC:Évènements pour Durban-Corbi&egrave;res
REFRESH-INTERVAL;VALUE=DURATION:PT1H
X-Robots-Tag:noindex
X-PUBLISHED-TTL:PT1H
BEGIN:VTIMEZONE
TZID:UTC
BEGIN:STANDARD
TZOFFSETFROM:+0000
TZOFFSETTO:+0000
TZNAME:UTC
DTSTART:20240101T000000
END:STANDARD
END:VTIMEZONE
BEGIN:VEVENT
DTSTART;TZID=UTC:20250128T180000
DTEND;TZID=UTC:20250128T180000
DTSTAMP:20260423T115220
CREATED:20250116T092809Z
LAST-MODIFIED:20250116T094227Z
UID:2941-1738087200-1738087200@durban-corbieres.fr
SUMMARY:Cinéma au Foyer
DESCRIPTION:
URL:https://durban-corbieres.fr/evenement/cinema-au-foyer-4/
LOCATION:Foyer Municipal
CATEGORIES:Evénement visible dans l'Agenda et dans la page d'Accueil,Evénement visible que dans l'Agenda
END:VEVENT
END:VCALENDAR