BEGIN:VCALENDAR
VERSION:2.0
PRODID:-//Durban-Corbi&egrave;res - ECPv6.15.20//NONSGML v1.0//EN
CALSCALE:GREGORIAN
METHOD:PUBLISH
X-ORIGINAL-URL:https://durban-corbieres.fr
X-WR-CALDESC:Évènements pour Durban-Corbi&egrave;res
REFRESH-INTERVAL;VALUE=DURATION:PT1H
X-Robots-Tag:noindex
X-PUBLISHED-TTL:PT1H
BEGIN:VTIMEZONE
TZID:UTC
BEGIN:STANDARD
TZOFFSETFROM:+0000
TZOFFSETTO:+0000
TZNAME:UTC
DTSTART:20240101T000000
END:STANDARD
END:VTIMEZONE
BEGIN:VEVENT
DTSTART;TZID=UTC:20250319T090000
DTEND;TZID=UTC:20250319T110000
DTSTAMP:20260421T101105
CREATED:20250318T154501Z
LAST-MODIFIED:20250318T154501Z
UID:3231-1742374800-1742382000@durban-corbieres.fr
SUMMARY:COMMEMORATION DU 19 MARS
DESCRIPTION:La cérémonie commémorative du 19 mars 1962 se déroulera demain à 10h30 au Monument aux Morts en présence des représentants de la FNACA des Hautes Corbières et de la Municipalité de Durban-Corbières. Une messe sera célébrée à 9 h en l’église St Just – St Pasteur de Durban\, en souvenir des victimes civiles et militaires de cette guerre.
URL:https://durban-corbieres.fr/evenement/commemoration-du-19-mars/
CATEGORIES:Evénement visible dans l'Agenda et dans la page d'Accueil,Evénement visible que dans l'Agenda
END:VEVENT
BEGIN:VEVENT
DTSTART;TZID=UTC:20250330T120000
DTEND;TZID=UTC:20250330T180000
DTSTAMP:20260421T101105
CREATED:20250318T083554Z
LAST-MODIFIED:20250409T085815Z
UID:3219-1743336000-1743357600@durban-corbieres.fr
SUMMARY:REPAS D'AVANT MATCH ET 16me CHALENGE OCCITANIE
DESCRIPTION:Dimanche 30 mars 2025\, le COTC organise un repas d’avant match suivi du 16me challenge Occitanie\nCOTC contre Mazère au Stade André MOLVEAU à Tuchan.
URL:https://durban-corbieres.fr/evenement/repas-davant-match-et-16me-chalenge-occitanie/
LOCATION:Tuchan
CATEGORIES:Evénement visible que dans l'Agenda
ATTACH;FMTTYPE=image/jpeg:https://durban-corbieres.fr/wp-content/uploads/2025/03/Match-rugby-30-03-2025.jpg
END:VEVENT
END:VCALENDAR