BEGIN:VCALENDAR
VERSION:2.0
PRODID:-//Durban-Corbi&egrave;res - ECPv6.15.20//NONSGML v1.0//EN
CALSCALE:GREGORIAN
METHOD:PUBLISH
X-ORIGINAL-URL:https://durban-corbieres.fr
X-WR-CALDESC:Évènements pour Durban-Corbi&egrave;res
REFRESH-INTERVAL;VALUE=DURATION:PT1H
X-Robots-Tag:noindex
X-PUBLISHED-TTL:PT1H
BEGIN:VTIMEZONE
TZID:UTC
BEGIN:STANDARD
TZOFFSETFROM:+0000
TZOFFSETTO:+0000
TZNAME:UTC
DTSTART:20230101T000000
END:STANDARD
END:VTIMEZONE
BEGIN:VEVENT
DTSTART;TZID=UTC:20240906T080000
DTEND;TZID=UTC:20240906T080000
DTSTAMP:20260423T172004
CREATED:20240906T145418Z
LAST-MODIFIED:20241115T124544Z
UID:2554-1725609600-1725609600@durban-corbieres.fr
SUMMARY:Nouvelles mesures de restriction d'eau
DESCRIPTION:A compter du lundi 09 septembre 2024 \nLa distribution d’eau potable sera quotidiennement interrompue\,  \n  de 17 h à 06 h du matin. \nEn conséquence il n’y aura pas de distribution de bouteilles d’eau \n  \n 
URL:https://durban-corbieres.fr/evenement/nouvelles-mesures-de-restriction-deau/
CATEGORIES:Evénement visible que dans l'Agenda
ATTACH;FMTTYPE=image/png:https://durban-corbieres.fr/wp-content/uploads/2024/05/blason-durban-corbieres.png
END:VEVENT
BEGIN:VEVENT
DTSTART;TZID=UTC:20240930T080000
DTEND;TZID=UTC:20240930T080000
DTSTAMP:20260423T172004
CREATED:20240930T142449Z
LAST-MODIFIED:20241115T124657Z
UID:2651-1727683200-1727683200@durban-corbieres.fr
SUMMARY:RESTOS DU CŒUR
DESCRIPTION:RESTOS DU CŒUR CENTRE DE DURBAN-CORBIERES  \nINSCRIPTIONS   \nLes inscriptions pour la campagne d’hiver 2024 se feront les : \n– LUNDI 28 OCTOBRE 2024 \n De 10 h à 11h30 et 14 h à 15h30 \n – MARDI 29 OCTOBRE 2024 \nDe 10 h à 11h30 et 14 h à 15h30 \n – MERCREDI 30 OCTOBRE 2024 \nDe 10 h à 11h30 et 14 h à 15h30 \n – JEUDI 31 OCTOBRE 2024 \nDe 10 h à 11h30 et 14 h à 15h30 \n Merci de vous munir de tous vos documents relatifs à l’ensemble de vos ressources et charges diverses. \nVos codes CAF ou MSA sont de précieux alliés… \nCompte-tenu de nos effectifs de bénévoles et de nouvelles mesures nationales\, nous ne serons pas en mesure de prendre les inscriptions le jour de la prochaine distribution\, \nsoit le 21 novembre 2024.
URL:https://durban-corbieres.fr/evenement/restos-du-coeur/
CATEGORIES:Evénement visible que dans l'Agenda
ATTACH;FMTTYPE=image/png:https://durban-corbieres.fr/wp-content/uploads/2024/09/Capture-decran-2024-09-30-162409.png
END:VEVENT
END:VCALENDAR