BEGIN:VCALENDAR
VERSION:2.0
PRODID:-//Durban-Corbi&egrave;res - ECPv6.15.20//NONSGML v1.0//EN
CALSCALE:GREGORIAN
METHOD:PUBLISH
X-WR-CALNAME:Durban-Corbi&egrave;res
X-ORIGINAL-URL:https://durban-corbieres.fr
X-WR-CALDESC:Évènements pour Durban-Corbi&egrave;res
REFRESH-INTERVAL;VALUE=DURATION:PT1H
X-Robots-Tag:noindex
X-PUBLISHED-TTL:PT1H
BEGIN:VTIMEZONE
TZID:UTC
BEGIN:STANDARD
TZOFFSETFROM:+0000
TZOFFSETTO:+0000
TZNAME:UTC
DTSTART:20250101T000000
END:STANDARD
END:VTIMEZONE
BEGIN:VEVENT
DTSTART;TZID=UTC:20260413T080000
DTEND;TZID=UTC:20260413T170000
DTSTAMP:20260425T135745
CREATED:20260414T094356Z
LAST-MODIFIED:20260417T071103Z
UID:4419-1776067200-1776099600@durban-corbieres.fr
SUMMARY:Espace Grilladin : On a besoin de vous !
DESCRIPTION:L’espace Grilladin\, c’est notre lieu de rendez-vous préféré pour partager un bon moment convivial autour d’une grillade et profiter du grand air.\nPour que tout le monde puisse en profiter\, la Mairie met gracieusement à votre disposition des grilles de cuisson. Malheureusement\, l’une d’entre elles manque à l’appel aujourd’hui. Si vous l’avez empruntée (même par mégarde !)\, merci de la rapporter au plus vite sur place pour que les prochains puissent en profiter.\nNous vous demandons de ne pas déplacer les grilles hors de l’espace prévu à cet effet.\nPrenons soin de notre matériel commun pour que l’esprit « Grilladin » reste intact ! \nMerci de votre compréhension et bons barbecues à tous !
URL:https://durban-corbieres.fr/evenement/espace-grilladin-on-a-besoin-de-vous/
ATTACH;FMTTYPE=image/png:https://durban-corbieres.fr/wp-content/uploads/2026/04/ChatGPT-Image-14-avr.-2026-10_16_17.png
END:VEVENT
END:VCALENDAR