BEGIN:VCALENDAR
VERSION:2.0
PRODID:-//Durban-Corbi&egrave;res - ECPv6.15.20//NONSGML v1.0//EN
CALSCALE:GREGORIAN
METHOD:PUBLISH
X-WR-CALNAME:Durban-Corbi&egrave;res
X-ORIGINAL-URL:https://durban-corbieres.fr
X-WR-CALDESC:Évènements pour Durban-Corbi&egrave;res
REFRESH-INTERVAL;VALUE=DURATION:PT1H
X-Robots-Tag:noindex
X-PUBLISHED-TTL:PT1H
BEGIN:VTIMEZONE
TZID:UTC
BEGIN:STANDARD
TZOFFSETFROM:+0000
TZOFFSETTO:+0000
TZNAME:UTC
DTSTART:20250101T000000
END:STANDARD
END:VTIMEZONE
BEGIN:VEVENT
DTSTART;TZID=UTC:20260409T080000
DTEND;TZID=UTC:20260409T170000
DTSTAMP:20260425T134303
CREATED:20260410T123523Z
LAST-MODIFIED:20260410T123533Z
UID:4412-1775721600-1775754000@durban-corbieres.fr
SUMMARY:INFO FACTURATION EAU
DESCRIPTION:Suite à la délibération du Conseil municipal n°2025-68\, l’eau sera désormais relevée et facturée deux fois par an.\nEn conséquence\, les relevés de compteurs seront également effectués de manière semestrielle.\nLe prochain passage des agents débutera\nle lundi 13 avril. \n\nMerci de leur réserver un bon accueil et de faciliter l’accès à vos compteurs.
URL:https://durban-corbieres.fr/evenement/info-facturation-eau/
CATEGORIES:Actualité sur page d'Accueil
ATTACH;FMTTYPE=image/png:https://durban-corbieres.fr/wp-content/uploads/2026/04/ChatGPT-Image-10-avr.-2026-14_30_57.png
END:VEVENT
END:VCALENDAR