BEGIN:VCALENDAR
VERSION:2.0
PRODID:-//Durban-Corbi&egrave;res - ECPv6.15.20//NONSGML v1.0//EN
CALSCALE:GREGORIAN
METHOD:PUBLISH
X-WR-CALNAME:Durban-Corbi&egrave;res
X-ORIGINAL-URL:https://durban-corbieres.fr
X-WR-CALDESC:Évènements pour Durban-Corbi&egrave;res
REFRESH-INTERVAL;VALUE=DURATION:PT1H
X-Robots-Tag:noindex
X-PUBLISHED-TTL:PT1H
BEGIN:VTIMEZONE
TZID:UTC
BEGIN:STANDARD
TZOFFSETFROM:+0000
TZOFFSETTO:+0000
TZNAME:UTC
DTSTART:20250101T000000
END:STANDARD
END:VTIMEZONE
BEGIN:VEVENT
DTSTART;TZID=UTC:20260322T080000
DTEND;TZID=UTC:20260322T170000
DTSTAMP:20260425T181344
CREATED:20260323T081458Z
LAST-MODIFIED:20260323T100618Z
UID:4365-1774166400-1774198800@durban-corbieres.fr
SUMMARY:📢ENTRETIEN DE LA BERRE : INFOS RIVERAINS
DESCRIPTION:L’équipe du Syndicat du Bassin de la Berre et du Rieu interviendra sur le secteur de la Berre (tronçon BE_10) à la fin du mois de mars.\nElle réalisera des opérations d’abattage et de débroussaillage pour sécuriser le cours d’eau et prévenir les risques d’inondation (gestion de la ripisylve). 🌿\n🪵 Propriétaires riverains : que faire du bois ?\nConformément à la réglementation\,\naucun bois coupé ne doit rester sur les berges pour éviter la formation d’embâcles.\nVous voulez garder le bois ?\nSignalez-vous auprès des techniciens\nVous ne le voulez pas ?\nLe Syndicat s’occupe de l’enlèvement.\n📞 Alaric Canal : 06 83 27 32 75\n📞 Florian Coulon : 06 43 80 93 42
URL:https://durban-corbieres.fr/evenement/%f0%9f%93%a2entretien-de-la-berre-infos-riverains/
CATEGORIES:Actualité sur page d'Accueil
ATTACH;FMTTYPE=image/jpeg:https://durban-corbieres.fr/wp-content/uploads/2026/03/Affiche-mairie-regie_page-0003.jpg
END:VEVENT
END:VCALENDAR