BEGIN:VCALENDAR
VERSION:2.0
PRODID:-//Durban-Corbi&egrave;res - ECPv6.15.20//NONSGML v1.0//EN
CALSCALE:GREGORIAN
METHOD:PUBLISH
X-WR-CALNAME:Durban-Corbi&egrave;res
X-ORIGINAL-URL:https://durban-corbieres.fr
X-WR-CALDESC:Évènements pour Durban-Corbi&egrave;res
REFRESH-INTERVAL;VALUE=DURATION:PT1H
X-Robots-Tag:noindex
X-PUBLISHED-TTL:PT1H
BEGIN:VTIMEZONE
TZID:UTC
BEGIN:STANDARD
TZOFFSETFROM:+0000
TZOFFSETTO:+0000
TZNAME:UTC
DTSTART:20250101T000000
END:STANDARD
END:VTIMEZONE
BEGIN:VEVENT
DTSTART;TZID=UTC:20260310T080000
DTEND;TZID=UTC:20260310T170000
DTSTAMP:20260425T181419
CREATED:20260311T095547Z
LAST-MODIFIED:20260311T095651Z
UID:4342-1773129600-1773162000@durban-corbieres.fr
SUMMARY:Reconnaissance de calamité agricole
DESCRIPTION:Suite aux températures élevées du 16 au 30 juin\net du 8 au 18 août 2025\nle département a bénéficié d’une reconnaissance au titre des calamités agricoles pour les pertes de fonds\n(mortalité de plantiers de vignes)\, par arrêté du 03 mars 2026.\nUne demande d’indemnisation est ouverte jusqu’au 12 avril 2026 inclus. \nComment déposer une demande ?\nVous pouvez télécharger les formulaires de demande d’indemnisation en cliquant sur le lien ci-dessous :\n👉 ici\nou\nÀ l’accueil de la DDTM : Service Agriculture\, Forêt\, Environnement et Biodiversité.
URL:https://durban-corbieres.fr/evenement/reconnaissance-de-calamite-agricole/
CATEGORIES:Actualité sur page d'Accueil
ATTACH;FMTTYPE=image/png:https://durban-corbieres.fr/wp-content/uploads/2026/03/affiche-cat-nat.png
END:VEVENT
END:VCALENDAR