BEGIN:VCALENDAR
VERSION:2.0
PRODID:-//Durban-Corbi&egrave;res - ECPv6.15.20//NONSGML v1.0//EN
CALSCALE:GREGORIAN
METHOD:PUBLISH
X-WR-CALNAME:Durban-Corbi&egrave;res
X-ORIGINAL-URL:https://durban-corbieres.fr
X-WR-CALDESC:Évènements pour Durban-Corbi&egrave;res
REFRESH-INTERVAL;VALUE=DURATION:PT1H
X-Robots-Tag:noindex
X-PUBLISHED-TTL:PT1H
BEGIN:VTIMEZONE
TZID:UTC
BEGIN:STANDARD
TZOFFSETFROM:+0000
TZOFFSETTO:+0000
TZNAME:UTC
DTSTART:20250101T000000
END:STANDARD
END:VTIMEZONE
BEGIN:VEVENT
DTSTART;TZID=UTC:20260309T080000
DTEND;TZID=UTC:20260309T170000
DTSTAMP:20260425T181910
CREATED:20260310T093923Z
LAST-MODIFIED:20260310T093923Z
UID:4339-1773043200-1773075600@durban-corbieres.fr
SUMMARY:Lancement des travaux de sécurisation suite à l’incendie majeur d'août 2025
DESCRIPTION:Un arrêté préfectoral vient de déclarer d’intérêt général et d’urgence (DIGU) les travaux d’exploitation des bois brûlés et de mise en sécurité du massif des Corbières.\nObjectif : Éliminer les arbres dangereux\, prévenir l’érosion des sols et protéger le massif contre de futurs incendies.\nLe Département de l’Aude coordonne l’ensemble des travaux pour le compte des communes sinistrées.\nAucune participation financière ne sera demandée aux propriétaires pour ces travaux.\nVous êtes propriétaire sur la zone ?\nVous recevrez un courrier de consultation du Département. Vous avez 2 mois pour choisir : \nOption DIGU : Vous confiez les travaux au Département. Une absence de réponse sous 2 mois vaut acceptation du dispositif.\nOption Autonome : Vous réalisez les travaux par vos propres moyens dans un délai maximal d’un an \nRappel sécurité :\nL’accès aux zones boisées sinistrées reste temporairement interdit tant que les travaux de sécurisation n’ont pas été menés à leur terme \nArrêté préfectoral n°DDTM-SAFEB-UFCB-2026-036
URL:https://durban-corbieres.fr/evenement/lancement-des-travaux-de-securisation-suite-a-lincendie-majeur-daout-2025/
CATEGORIES:Actualité sur page d'Accueil
ATTACH;FMTTYPE=image/png:https://durban-corbieres.fr/wp-content/uploads/2026/03/Gestion-post-incendie-dans-le-massif-des-Corbieres.png
END:VEVENT
END:VCALENDAR