BEGIN:VCALENDAR
VERSION:2.0
PRODID:-//Durban-Corbi&egrave;res - ECPv6.15.20//NONSGML v1.0//EN
CALSCALE:GREGORIAN
METHOD:PUBLISH
X-WR-CALNAME:Durban-Corbi&egrave;res
X-ORIGINAL-URL:https://durban-corbieres.fr
X-WR-CALDESC:Évènements pour Durban-Corbi&egrave;res
REFRESH-INTERVAL;VALUE=DURATION:PT1H
X-Robots-Tag:noindex
X-PUBLISHED-TTL:PT1H
BEGIN:VTIMEZONE
TZID:UTC
BEGIN:STANDARD
TZOFFSETFROM:+0000
TZOFFSETTO:+0000
TZNAME:UTC
DTSTART:20250101T000000
END:STANDARD
END:VTIMEZONE
BEGIN:VEVENT
DTSTART;TZID=UTC:20260222T080000
DTEND;TZID=UTC:20260222T170000
DTSTAMP:20260425T194052
CREATED:20260223T095828Z
LAST-MODIFIED:20260223T095828Z
UID:4295-1771747200-1771779600@durban-corbieres.fr
SUMMARY:📢 Du nouveau à la Maison de Santé de Durban-Corbières !
DESCRIPTION:La maison de santé a le plaisir d’annoncer l’arrivée de deux nouveaux médecins généralistes\n🤝 Bienvenue au : \nDocteur Vandendriessche (dès le lundi 23 février)\n👩‍⚕️ Elle porte un intérêt particulier à la pédiatrie et au bien-être psychologique.\n📅 Présente les lundi\, mardi\, mercredi et jeudi. \n🤝 Bienvenue au : \nDocteur Kirkeby (dès le 6 mars)\n👨‍⚕️ elle s’intéresse spécifiquement à la dermatologie et aux soins palliatifs.\n📅 Présente les lundi\, mardi\, jeudi et vendredi. \n📅 Modalités de rendez-vous :\nLes consultations se font uniquement sur rendez-vous :\npar\n📞 Téléphone : 04.68.45.51.13\n(le matin uniquement\, sauf urgence).\nou\n💻 En ligne : via zena.eu (prochainement actif). \n 
URL:https://durban-corbieres.fr/evenement/%f0%9f%93%a2-du-nouveau-a-la-maison-de-sante-de-durban-corbieres/
CATEGORIES:Actualité sur page d'Accueil
ATTACH;FMTTYPE=image/webp:https://durban-corbieres.fr/wp-content/uploads/2026/02/maison-de-sante-durban-corbieres.webp
END:VEVENT
BEGIN:VEVENT
DTSTART;TZID=UTC:20260222T080000
DTEND;TZID=UTC:20260222T170000
DTSTAMP:20260425T194052
CREATED:20260223T142914Z
LAST-MODIFIED:20260410T123313Z
UID:4298-1771747200-1771779600@durban-corbieres.fr
SUMMARY:Information éclairage public
DESCRIPTION:À partir du 23 février\, de nouvelles dispositions concernant l’éclairage nocturne entrent en vigueur.\nL’éclairage public ne sera désormais plus totalement éteint durant la nuit.\nEn revanche un abaissement de l’intensité lumineuse de 50 % sera appliqué chaque nuit de 23h00 à 05h00.\nCette mesure permet de maintenir une visibilité constante tout en limitant notre empreinte énergétique.
URL:https://durban-corbieres.fr/evenement/information-eclairage-public/
ATTACH;FMTTYPE=image/jpeg:https://durban-corbieres.fr/wp-content/uploads/2026/02/EP.jpg
END:VEVENT
BEGIN:VEVENT
DTSTART;TZID=UTC:20260222T080000
DTEND;TZID=UTC:20260222T170000
DTSTAMP:20260425T194052
CREATED:20260223T155238Z
LAST-MODIFIED:20260223T155238Z
UID:4302-1771747200-1771779600@durban-corbieres.fr
SUMMARY:Les Obligations Légales de Débroussaillement
DESCRIPTION:Suite à l’arrêté préfectoral n°DDTM-SAFEB-UFCB-2025-044\, les règles concernant les Obligations Légales de Débroussaillement (OLD)\nsont rappelées et précisées.\n\n\nIl est crucial d’agir dès maintenant pour limiter les risques de propagation des feux.
URL:https://durban-corbieres.fr/evenement/les-obligations-legales-de-debroussaillement/
CATEGORIES:Actualité sur page d'Accueil
ATTACH;FMTTYPE=image/jpeg:https://durban-corbieres.fr/wp-content/uploads/2026/02/OLD.jpg
END:VEVENT
END:VCALENDAR