BEGIN:VCALENDAR
VERSION:2.0
PRODID:-//Durban-Corbi&egrave;res - ECPv6.15.20//NONSGML v1.0//EN
CALSCALE:GREGORIAN
METHOD:PUBLISH
X-WR-CALNAME:Durban-Corbi&egrave;res
X-ORIGINAL-URL:https://durban-corbieres.fr
X-WR-CALDESC:Évènements pour Durban-Corbi&egrave;res
REFRESH-INTERVAL;VALUE=DURATION:PT1H
X-Robots-Tag:noindex
X-PUBLISHED-TTL:PT1H
BEGIN:VTIMEZONE
TZID:UTC
BEGIN:STANDARD
TZOFFSETFROM:+0000
TZOFFSETTO:+0000
TZNAME:UTC
DTSTART:20250101T000000
END:STANDARD
END:VTIMEZONE
BEGIN:VEVENT
DTSTART;TZID=UTC:20260211T080000
DTEND;TZID=UTC:20260211T080000
DTSTAMP:20260425T194126
CREATED:20260211T190041Z
LAST-MODIFIED:20260220T084121Z
UID:4243-1770796800-1770796800@durban-corbieres.fr
SUMMARY:VIGILANCE ROUGE
DESCRIPTION:VIGILANCE ROUGE \n\n– – – – – – – \n\nSUITE AU MESSAGE FR ALERTE EXTREMEMENT GRAVE \nVENTS VIOLENTS \nVIGILANCE ROUGE \nLA préfecture rappelle à la population d’être extrêmement vigilant. \nAbritez vous dans un bâtiment dur \nEvitez de rester sous un arbre \nFermez portes\, fenêtres et volets. \nLimiter ou reporter vos déplacements \nAccrochez tout objet qui pourrait être emporté par le vent \nNe pas laisser les véhicules sous les arbres (Chutes de Branches) \nRespectez les consignes des autorités et restez en lieu sur jusqu’à à la fin de l’alerte
URL:https://durban-corbieres.fr/evenement/vigilance-rouge/
ATTACH;FMTTYPE=image/jpeg:https://durban-corbieres.fr/wp-content/uploads/2026/02/631175158_1360722759415975_2260025406430288349_n.jpg
END:VEVENT
BEGIN:VEVENT
DTSTART;TZID=UTC:20260211T080000
DTEND;TZID=UTC:20260211T080000
DTSTAMP:20260425T194126
CREATED:20260213T145343Z
LAST-MODIFIED:20260220T105447Z
UID:4253-1770796800-1770796800@durban-corbieres.fr
SUMMARY:ARRETE PREFECTORAL N°SIDPC-2026-61 PORTANT FERMETURE DE L'ENSEMBLE DES MASSIFS FORESTIERS DU DEPARTEMENT DE L'AUDE
DESCRIPTION:Par arrêté préfectoral\,\nl’ensemble des massifs forestiers du département de l’Aude\nest temporairement fermé au public\,\nà compter de ce jour et jusqu’à nouvel ordre.
URL:https://durban-corbieres.fr/evenement/arrete-prefectoral-nsidpc-2026-61-portant-fermeture-de-lensemble-des-massifs-forestiers-du-departement-de-laude/
ATTACH;FMTTYPE=image/jpeg:https://durban-corbieres.fr/wp-content/uploads/2026/02/ARRETE-PREFECTORAL.jpg
END:VEVENT
BEGIN:VEVENT
DTSTART;TZID=UTC:20260211T080000
DTEND;TZID=UTC:20260211T170000
DTSTAMP:20260425T194126
CREATED:20260212T143737Z
LAST-MODIFIED:20260220T084256Z
UID:4245-1770796800-1770829200@durban-corbieres.fr
SUMMARY:POINT SITUATION
DESCRIPTION:[REOUVERTURE DES ÉTABLISSEMENTS SCOLAIRES ET ACCUEIL DE MINEURS]\n\n\n#TempêteNils | POINT DE SITUATION à 14H15\n\n\n Vendredi 13 février 2026\, les établissements d’enseignement publics et privés de tout le département\, incluant les crèches\, écoles maternelles et primaires\, collèges\, lycées ainsi que les établissements d’enseignement supérieur et agricoles\, seront réouverts.\n\n\n La vigilance rouge vent violent est levée depuis 14h pour un passage en vigilance orange crues et jaune pluie-inondation. Suivi météo : vigilance.meteofrance.fr/fr/aude\n\n\n La circulation demeure difficile sur les réseaux autoroutiers et secondaires avec 48 routes barrées sur le département. En temps réel : inforoute11.fr\n\n\n La Cellule d’information du public (CIP) est ouverte au 09 70 80 90 40.\n\n\n Limitez au maximum vos déplacements.
URL:https://durban-corbieres.fr/evenement/point-situation/
ATTACH;FMTTYPE=image/jpeg:https://durban-corbieres.fr/wp-content/uploads/2026/02/vent-violent.jpg
END:VEVENT
END:VCALENDAR